BEGIN:VCALENDAR
VERSION:2.0
PRODID:-//RMO Europe - ECPv6.3.6//NONSGML v1.0//EN
CALSCALE:GREGORIAN
METHOD:PUBLISH
X-WR-CALNAME:RMO Europe
X-ORIGINAL-URL:https://www.rmoeurope.com/?lang=en
X-WR-CALDESC:Events for RMO Europe
REFRESH-INTERVAL;VALUE=DURATION:PT1H
X-Robots-Tag:noindex
X-PUBLISHED-TTL:PT1H
BEGIN:VTIMEZONE
TZID:UTC
BEGIN:STANDARD
TZOFFSETFROM:+0000
TZOFFSETTO:+0000
TZNAME:UTC
DTSTART:20250101T000000
END:STANDARD
END:VTIMEZONE
BEGIN:VEVENT
DTSTART;TZID=UTC:20251107T000000
DTEND;TZID=UTC:20251109T235959
DTSTAMP:20260425T113809
CREATED:20201123T091345Z
LAST-MODIFIED:20240722T091354Z
UID:319178-1762473600-1762732799@www.rmoeurope.com
SUMMARY:Journées de l'Orthodontie 2024
DESCRIPTION:Visit us from 8 to 10 November 2024 on our booth\n \n 
URL:https://www.rmoeurope.com/evenement/journees-de-lorthodontie/?lang=en
LOCATION:Palais des Congrès\, Paris\, 2 Place de la Porte Maillot\, Paris\, 75017\, France
CATEGORIES:Congrès
ATTACH;FMTTYPE=image/jpeg:https://www.rmoeurope.com/wp-content/uploads/2020/11/congres.jpg
END:VEVENT
END:VCALENDAR